BEGIN:VCALENDAR
VERSION:2.0
PRODID:-//Sportbund Versbach 1862 e.V. - ECPv6.15.20//NONSGML v1.0//EN
CALSCALE:GREGORIAN
METHOD:PUBLISH
X-ORIGINAL-URL:https://sb-versbach.de
X-WR-CALDESC:Veranstaltungen für Sportbund Versbach 1862 e.V.
REFRESH-INTERVAL;VALUE=DURATION:PT1H
X-Robots-Tag:noindex
X-PUBLISHED-TTL:PT1H
BEGIN:VTIMEZONE
TZID:Europe/Berlin
BEGIN:DAYLIGHT
TZOFFSETFROM:+0100
TZOFFSETTO:+0200
TZNAME:CEST
DTSTART:20220327T010000
END:DAYLIGHT
BEGIN:STANDARD
TZOFFSETFROM:+0200
TZOFFSETTO:+0100
TZNAME:CET
DTSTART:20221030T010000
END:STANDARD
BEGIN:DAYLIGHT
TZOFFSETFROM:+0100
TZOFFSETTO:+0200
TZNAME:CEST
DTSTART:20230326T010000
END:DAYLIGHT
BEGIN:STANDARD
TZOFFSETFROM:+0200
TZOFFSETTO:+0100
TZNAME:CET
DTSTART:20231029T010000
END:STANDARD
BEGIN:DAYLIGHT
TZOFFSETFROM:+0100
TZOFFSETTO:+0200
TZNAME:CEST
DTSTART:20240331T010000
END:DAYLIGHT
BEGIN:STANDARD
TZOFFSETFROM:+0200
TZOFFSETTO:+0100
TZNAME:CET
DTSTART:20241027T010000
END:STANDARD
END:VTIMEZONE
BEGIN:VEVENT
DTSTART;TZID=Europe/Berlin:20230113T200000
DTEND;TZID=Europe/Berlin:20230113T220000
DTSTAMP:20260424T045501
CREATED:20221117T182011Z
LAST-MODIFIED:20221130T092941Z
UID:8135-1673640000-1673647200@sb-versbach.de
SUMMARY:Martin Frank: Einer für Alle – Alle für Keinen!!
DESCRIPTION:Der junge niederbayerische Kabarettist Martin Frank schoss wie eine Rakete in den Kabaretthimmel und zieht dort als Komet durch den Satire-Orbit. Ganz Sohn eines Landwirts\, lugt er zwar immer wieder Richtung Milchstraße\, richtet seinen aufmerksamen Blick aber gezielt auf Stadt und Land\, auf die Gesellschaft und deren Auswüchse. Was er da sieht\, hat er im Titel seines dritten Soloprogramms\, das im Herbst 2020 Premiere feiert\, zusammengefasst. \n„Einer für alle – Alle für keinen“\, so beschreibt Martin Frank sein momentanes Bild einer Gesellschaft\, in der individuelle Luxusprobleme den gesunden Menschenverstand zu überschatten scheinen. Eine Welt\, in der Männer sich beim Anblick von Frauenparkplätzen ebenso „diskriminiert“ fühlen wie Mädchen\, die nicht im Knabenchor singen dürfen. Letzteres kann Martin zwar sehr gut verstehen\, wollte er als Junge doch auch gern Mitglied im Frauenbund werden. Bis seine Mutter ihm die Krampfader gezeigt hat und meinte: „Ohne die geht es nicht!“. Dann war die Sache für ihn erledigt. \nUnd dann kam dieses Virus\, dieses Corona und nichts ist mehr so wie vorher. Erst stand alles still und jetzt wird vieles anders – heißt es zumindest. Das wäre doch die optimale Gelegenheit für einen Relaunch – wie man in Niederbayern stehts zu sagen pflegt. Noch einmal alles auf Anfang\, mit Blick auf die wirklich wichtigen Dinge des Lebens? Martin Frank sinniert gewohnt frech\, hintersinnig und gespickt mit noch mehr Arien über unser teils doch recht absurdes Leben auf dieser Erde. \nSo kommt er am 13.01.2023 um 20.00 Uhr nach Versbach für Kabarett in der Pleichachtalhalle. Eintrittskarten gibt es an den folgenden Vorverkaufsstellen: \n\nTourist Info\, Falkenhaus – 0931/37 23 98\nElektro Philipp\, Rimpar – 09365/98 58\nLotto Lädle\, Versbach – 0931/28 28 82\nSB Versbach – 0174/315 16 15\ninfo@tt-versbach.de
URL:https://sb-versbach.de/event/martin-frank-einer-fuer-alle-alle-fuer-keinen/
LOCATION:Pleichachtalhalle Versbach\, Versbacher Str. 218\, Würzburg\, 97078\, Germany
ATTACH;FMTTYPE=image/jpeg:https://sb-versbach.de/wp-content/uploads/2022/11/Martin_Frank_foto_Andreas_Kusy.jpg
END:VEVENT
END:VCALENDAR