BEGIN:VCALENDAR
VERSION:2.0
PRODID:-//Sportbund Versbach 1862 e.V. - ECPv6.15.20//NONSGML v1.0//EN
CALSCALE:GREGORIAN
METHOD:PUBLISH
X-WR-CALNAME:Sportbund Versbach 1862 e.V.
X-ORIGINAL-URL:https://sb-versbach.de
X-WR-CALDESC:Veranstaltungen für Sportbund Versbach 1862 e.V.
REFRESH-INTERVAL;VALUE=DURATION:PT1H
X-Robots-Tag:noindex
X-PUBLISHED-TTL:PT1H
BEGIN:VTIMEZONE
TZID:Europe/Berlin
BEGIN:DAYLIGHT
TZOFFSETFROM:+0100
TZOFFSETTO:+0200
TZNAME:CEST
DTSTART:20210328T010000
END:DAYLIGHT
BEGIN:STANDARD
TZOFFSETFROM:+0200
TZOFFSETTO:+0100
TZNAME:CET
DTSTART:20211031T010000
END:STANDARD
BEGIN:DAYLIGHT
TZOFFSETFROM:+0100
TZOFFSETTO:+0200
TZNAME:CEST
DTSTART:20220327T010000
END:DAYLIGHT
BEGIN:STANDARD
TZOFFSETFROM:+0200
TZOFFSETTO:+0100
TZNAME:CET
DTSTART:20221030T010000
END:STANDARD
BEGIN:DAYLIGHT
TZOFFSETFROM:+0100
TZOFFSETTO:+0200
TZNAME:CEST
DTSTART:20230326T010000
END:DAYLIGHT
BEGIN:STANDARD
TZOFFSETFROM:+0200
TZOFFSETTO:+0100
TZNAME:CET
DTSTART:20231029T010000
END:STANDARD
END:VTIMEZONE
BEGIN:VEVENT
DTSTART;TZID=Europe/Berlin:20221119T190000
DTEND;TZID=Europe/Berlin:20221119T203000
DTSTAMP:20260425T004912
CREATED:20220807T103205Z
LAST-MODIFIED:20220807T111852Z
UID:7786-1668884400-1668889800@sb-versbach.de
SUMMARY:40 Jahre Polt & Well-Brüder „Im Abgang nachtragend“
DESCRIPTION:Im Zusammenspiel von Gerhard Polt und den Wellbrüdern entsteht am 19.11.2022 in der Pleichachtalhalle ein unterhaltsamer „Bairischer Abend“ der besonderen Art\, fernab von weiß-blauer Weißwurstidylle und Bierseligkeit. Der Menschenkenner Polt bespiegelt die Abgründe des „Bayern an sich“\, ohne ihn dem unreflektierten Gelächter des homo googleensis preiszugeben\, und die Wellbrüder liefern den Soundtrack zum Panoptikum Bavaricum. \nChristoph und Michael Well (Biermösl Blosn) haben mit ihrem Bruder Karl Well (Guglhupfa) die neue Formation „Well-Brüder aus’m Biermoos“ gegründet. Die drei Sprosse der Großfamilie Well nehmen in bewährter Biermösl-Tradition das politische Geschehen Bayerns und dem Rest der Welt aufs Korn. Unter Zuhilfenahme unzähliger Instrumente wird der Darm unseres Ministerpräsidenten gespiegelt\, die Situation unserer Milchbauern ausgemolken\, geschuhplattelt\, gejodelt und gestanzelt. Sie decken Heimatverbrechen aller Art auf und blasen denen „da oben“ gehörig den Marsch\, ohne dabei die „da unten“ zu verschonen. \nGerhard Polt und die drei Wellbrüder machen sich jeden ihrer mittlerweile raren Auftritte zu einem Mordsgaudium für das Publikum und für sich selbst. Am Samstag den 19.11.2022 sind sie um 19.00 Uhr zu Gast in der Pleichachtalhalle in Würzburg Versbach. \nKarten für den 14.05.2022 in der tectacke-Arena behalten ihre Gültigkeit!\nBitte beachten: Nachdem die Pleichachtalhalle wieder freigegeben ist\, findet die Veranstaltung in der Pleichachtalhalle statt. \nKartenvorverkauf\nDer Kartenvorverkauf für die Veranstaltungen mit Sebastian Reich und Gerhart Polt hat begonnen. Karten gibt es an folgenden Stellen: \n\nTourist Info\, Falkenhaus – 0931/37 23 98\nElektro Philipp\, Rimpar – 09365/98 58\nLotto Lädle\, Versbach – 0931/28 28 82\nSB Versbach – 0174/315 16 15\ninfo@tt-versbach.de
URL:https://sb-versbach.de/event/40-jahre-polt-well-brueder-im-abgang-nachtragend/
LOCATION:Pleichachtalhalle Versbach\, Versbacher Str. 218\, Würzburg\, 97078\, Germany
CATEGORIES:Tischtennis
ATTACH;FMTTYPE=image/jpeg:https://sb-versbach.de/wp-content/uploads/2022/03/DSC09435_POLT_WELL_PRESSE1.jpg
ORGANIZER;CN="SB Versbach - Tischtennisabteilung":MAILTO:info@tt-versbach.de
END:VEVENT
END:VCALENDAR